BEGIN:VCALENDAR
VERSION:2.0
PRODID:-//The Cave - ECPv6.15.20//NONSGML v1.0//EN
CALSCALE:GREGORIAN
METHOD:PUBLISH
X-ORIGINAL-URL:https://caverntavern.com
X-WR-CALDESC:Events for The Cave
REFRESH-INTERVAL;VALUE=DURATION:PT1H
X-Robots-Tag:noindex
X-PUBLISHED-TTL:PT1H
BEGIN:VTIMEZONE
TZID:America/New_York
BEGIN:DAYLIGHT
TZOFFSETFROM:-0500
TZOFFSETTO:-0400
TZNAME:EDT
DTSTART:20250309T070000
END:DAYLIGHT
BEGIN:STANDARD
TZOFFSETFROM:-0400
TZOFFSETTO:-0500
TZNAME:EST
DTSTART:20251102T060000
END:STANDARD
BEGIN:DAYLIGHT
TZOFFSETFROM:-0500
TZOFFSETTO:-0400
TZNAME:EDT
DTSTART:20260308T070000
END:DAYLIGHT
BEGIN:STANDARD
TZOFFSETFROM:-0400
TZOFFSETTO:-0500
TZNAME:EST
DTSTART:20261101T060000
END:STANDARD
BEGIN:DAYLIGHT
TZOFFSETFROM:-0500
TZOFFSETTO:-0400
TZNAME:EDT
DTSTART:20270314T070000
END:DAYLIGHT
BEGIN:STANDARD
TZOFFSETFROM:-0400
TZOFFSETTO:-0500
TZNAME:EST
DTSTART:20271107T060000
END:STANDARD
END:VTIMEZONE
BEGIN:VEVENT
DTSTART;TZID=America/New_York:20260411T210000
DTEND;TZID=America/New_York:20260411T210000
DTSTAMP:20260420T231739
CREATED:20260405T225630Z
LAST-MODIFIED:20260405T225630Z
UID:10000368-1775941200-1775941200@caverntavern.com
SUMMARY:Applefield | Midsummers | Snowblinder
DESCRIPTION:
URL:https://caverntavern.com/calendar/applefield-midsummers-snowblinder/
LOCATION:The Cave\, NC\, United States
ATTACH;FMTTYPE=image/png:https://caverntavern.com/wp-content/uploads/2026/04/Screen-Shot-2026-04-05-at-6.55.07-PM.png
END:VEVENT
BEGIN:VEVENT
DTSTART;TZID=America/New_York:20260412T210000
DTEND;TZID=America/New_York:20260412T210000
DTSTAMP:20260420T231739
CREATED:20250224T213335Z
LAST-MODIFIED:20260410T161220Z
UID:10000049-1776027600-1776027600@caverntavern.com
SUMMARY:DEATH JAZZ
DESCRIPTION:Noise Rock improv freaks assemble
URL:https://caverntavern.com/calendar/rob-dimauros-death-jazz/
LOCATION:The Cave\, NC\, United States
ATTACH;FMTTYPE=image/jpeg:https://caverntavern.com/wp-content/uploads/2025/02/IMG_1009.jpeg
END:VEVENT
BEGIN:VEVENT
DTSTART;TZID=America/New_York:20260414T210000
DTEND;TZID=America/New_York:20260414T210000
DTSTAMP:20260420T231739
CREATED:20260412T204434Z
LAST-MODIFIED:20260412T204601Z
UID:10000373-1776200400-1776200400@caverntavern.com
SUMMARY:Matty Frank | Cole Cook & Friends
DESCRIPTION:
URL:https://caverntavern.com/calendar/matty-frank-cole-cook-friends/
LOCATION:The Cave\, NC\, United States
ATTACH;FMTTYPE=image/png:https://caverntavern.com/wp-content/uploads/2026/04/Screenshot-2026-04-12-at-4.41.14-PM.png
END:VEVENT
BEGIN:VEVENT
DTSTART;TZID=America/New_York:20260415T210000
DTEND;TZID=America/New_York:20260415T210000
DTSTAMP:20260420T231739
CREATED:20260412T201810Z
LAST-MODIFIED:20260412T201810Z
UID:10000369-1776286800-1776286800@caverntavern.com
SUMMARY:The Salt Creeps | Sonic Blooms | Fledglings
DESCRIPTION:
URL:https://caverntavern.com/calendar/the-salt-creeps-sonic-blooms-fledglings/
LOCATION:The Cave\, NC\, United States
ATTACH;FMTTYPE=image/png:https://caverntavern.com/wp-content/uploads/2026/04/Screenshot-2026-04-12-at-4.16.31-PM.png
END:VEVENT
BEGIN:VEVENT
DTSTART;TZID=America/New_York:20260416T210000
DTEND;TZID=America/New_York:20260416T210000
DTSTAMP:20260420T231739
CREATED:20260412T202126Z
LAST-MODIFIED:20260412T202126Z
UID:10000370-1776373200-1776373200@caverntavern.com
SUMMARY:Marshall Sidbury | Ravary
DESCRIPTION:
URL:https://caverntavern.com/calendar/marshall-sidbury-ravary/
LOCATION:The Cave\, NC\, United States
ATTACH;FMTTYPE=image/png:https://caverntavern.com/wp-content/uploads/2026/04/Screen-Shot-2026-04-12-at-4.18.52-PM.png
END:VEVENT
BEGIN:VEVENT
DTSTART;TZID=America/New_York:20260417T210000
DTEND;TZID=America/New_York:20260417T210000
DTSTAMP:20260420T231739
CREATED:20260119T014135Z
LAST-MODIFIED:20260412T202325Z
UID:10000311-1776459600-1776459600@caverntavern.com
SUMMARY:ALL SHE NEEDS IS LUNGS: a benefit for Cory Griffiths
DESCRIPTION:
URL:https://caverntavern.com/calendar/all-she-needs-is-lungs-a-benefit-for-cory-griffiths/
LOCATION:The Cave\, NC\, United States
ATTACH;FMTTYPE=image/png:https://caverntavern.com/wp-content/uploads/2026/01/Screen-Shot-2026-04-12-at-4.22.24-PM.png
END:VEVENT
BEGIN:VEVENT
DTSTART;TZID=America/New_York:20260418T210000
DTEND;TZID=America/New_York:20260418T210000
DTSTAMP:20260420T231739
CREATED:20260412T202904Z
LAST-MODIFIED:20260412T202904Z
UID:10000371-1776546000-1776546000@caverntavern.com
SUMMARY:Hot Brains | Good Good Grief | Over The Wire
DESCRIPTION:
URL:https://caverntavern.com/calendar/hot-brains-good-good-grief-over-the-wire/
LOCATION:The Cave\, NC\, United States
ATTACH;FMTTYPE=image/png:https://caverntavern.com/wp-content/uploads/2026/04/Screenshot-2026-04-12-at-4.24.18-PM.png
END:VEVENT
BEGIN:VEVENT
DTSTART;TZID=America/New_York:20260419T200000
DTEND;TZID=America/New_York:20260419T200000
DTSTAMP:20260420T231739
CREATED:20260412T203336Z
LAST-MODIFIED:20260412T203336Z
UID:10000372-1776628800-1776628800@caverntavern.com
SUMMARY:Heartscape Landbreak | John The Ladder | Lee Waters
DESCRIPTION:
URL:https://caverntavern.com/calendar/heartscape-landbreak-john-the-ladder-lee-waters/
LOCATION:The Cave\, NC\, United States
ATTACH;FMTTYPE=image/png:https://caverntavern.com/wp-content/uploads/2026/04/Screen-Shot-2026-04-12-at-4.30.23-PM.png
END:VEVENT
BEGIN:VEVENT
DTSTART;TZID=America/New_York:20260420T210000
DTEND;TZID=America/New_York:20260420T210000
DTSTAMP:20260420T231739
CREATED:20250813T204849Z
LAST-MODIFIED:20260412T203423Z
UID:10000192-1776718800-1776718800@caverntavern.com
SUMMARY:Monday Jazz Night!
DESCRIPTION:The Moon Unit’s weekly jazz jam!
URL:https://caverntavern.com/calendar/monday-jazz-night/
LOCATION:The Cave\, NC\, United States
ATTACH;FMTTYPE=image/png:https://caverntavern.com/wp-content/uploads/2025/01/Screen-Shot-2025-03-26-at-12.26.14-AM.png
END:VEVENT
BEGIN:VEVENT
DTSTART;TZID=America/New_York:20260421T210000
DTEND;TZID=America/New_York:20260421T210000
DTSTAMP:20260420T231740
CREATED:20260420T000632Z
LAST-MODIFIED:20260420T000632Z
UID:10000374-1776805200-1776805200@caverntavern.com
SUMMARY:Myka Lace | Eric Lee Hardt | Crashing Into Solution
DESCRIPTION:
URL:https://caverntavern.com/calendar/myka-lace-eric-lee-hardt-crashing-into-solution/
LOCATION:The Cave\, NC\, United States
ATTACH;FMTTYPE=image/png:https://caverntavern.com/wp-content/uploads/2026/04/Screenshot-2026-04-19-at-8.03.29-PM.png
END:VEVENT
BEGIN:VEVENT
DTSTART;TZID=America/New_York:20260422T210000
DTEND;TZID=America/New_York:20260422T210000
DTSTAMP:20260420T231740
CREATED:20260420T000938Z
LAST-MODIFIED:20260421T014541Z
UID:10000375-1776891600-1776891600@caverntavern.com
SUMMARY:an elegy for the aching earth
DESCRIPTION:
URL:https://caverntavern.com/calendar/tokara-forest-ranger-station/
LOCATION:The Cave\, NC\, United States
ATTACH;FMTTYPE=image/jpeg:https://caverntavern.com/wp-content/uploads/2026/04/8421.jpg
END:VEVENT
BEGIN:VEVENT
DTSTART;TZID=America/New_York:20260423T210000
DTEND;TZID=America/New_York:20260423T210000
DTSTAMP:20260420T231740
CREATED:20260420T001327Z
LAST-MODIFIED:20260420T001327Z
UID:10000376-1776978000-1776978000@caverntavern.com
SUMMARY:Doomsday Profit | Overton
DESCRIPTION:
URL:https://caverntavern.com/calendar/doomsday-profit-overton/
LOCATION:The Cave\, NC\, United States
ATTACH;FMTTYPE=image/png:https://caverntavern.com/wp-content/uploads/2026/04/Screen-Shot-2026-04-19-at-8.10.42-PM.png
END:VEVENT
BEGIN:VEVENT
DTSTART;TZID=America/New_York:20260424T210000
DTEND;TZID=America/New_York:20260424T210000
DTSTAMP:20260420T231740
CREATED:20260421T014745Z
LAST-MODIFIED:20260421T014745Z
UID:10000377-1777064400-1777064400@caverntavern.com
SUMMARY:The Energy Gawds Present Plug N Play
DESCRIPTION:
URL:https://caverntavern.com/calendar/the-energy-gawds-present-plug-n-play/
LOCATION:The Cave\, NC\, United States
ATTACH;FMTTYPE=image/jpeg:https://caverntavern.com/wp-content/uploads/2026/04/8427.jpg
END:VEVENT
BEGIN:VEVENT
DTSTART;TZID=America/New_York:20260425T210000
DTEND;TZID=America/New_York:20260425T210000
DTSTAMP:20260420T231740
CREATED:20260421T015744Z
LAST-MODIFIED:20260421T015744Z
UID:10000378-1777150800-1777150800@caverntavern.com
SUMMARY:The Matildas | Georgia Moon | Jupiter 2
DESCRIPTION:
URL:https://caverntavern.com/calendar/the-matildas-georgia-moon-jupiter-2/
LOCATION:The Cave\, NC\, United States
ATTACH;FMTTYPE=image/png:https://caverntavern.com/wp-content/uploads/2026/04/the-matildas.png
END:VEVENT
BEGIN:VEVENT
DTSTART;TZID=America/New_York:20260426T190000
DTEND;TZID=America/New_York:20260426T190000
DTSTAMP:20260420T231740
CREATED:20260421T020556Z
LAST-MODIFIED:20260421T020556Z
UID:10000379-1777230000-1777230000@caverntavern.com
SUMMARY:Sara Zaleta et Le Band
DESCRIPTION:join Sara & Johnny for a Sunday evening Francophonic soiree
URL:https://caverntavern.com/calendar/sara-zaleta-et-le-band/
LOCATION:The Cave\, NC\, United States
ATTACH;FMTTYPE=image/png:https://caverntavern.com/wp-content/uploads/2026/04/Screen-Shot-2026-04-20-at-10.03.34-PM.png
END:VEVENT
BEGIN:VEVENT
DTSTART;TZID=America/New_York:20260427T210000
DTEND;TZID=America/New_York:20260427T210000
DTSTAMP:20260420T231740
CREATED:20250127T215956Z
LAST-MODIFIED:20260421T020653Z
UID:10000024-1777323600-1777323600@caverntavern.com
SUMMARY:Monday Jazz Night!
DESCRIPTION:The Moon Unit’s weekly jazz jam!
URL:https://caverntavern.com/calendar/monday-jazz-night-2/
LOCATION:The Cave\, NC\, United States
ATTACH;FMTTYPE=image/png:https://caverntavern.com/wp-content/uploads/2025/01/Screen-Shot-2025-03-26-at-12.26.14-AM.png
END:VEVENT
END:VCALENDAR